BEGIN:VCALENDAR
VERSION:2.0
PRODID:-//Eagle Environmental - ECPv6.15.17//NONSGML v1.0//EN
CALSCALE:GREGORIAN
METHOD:PUBLISH
X-WR-CALNAME:Eagle Environmental
X-ORIGINAL-URL:https://eagleenv.co.za
X-WR-CALDESC:Events for Eagle Environmental
REFRESH-INTERVAL;VALUE=DURATION:PT1H
X-Robots-Tag:noindex
X-PUBLISHED-TTL:PT1H
BEGIN:VTIMEZONE
TZID:Africa/Johannesburg
BEGIN:STANDARD
TZOFFSETFROM:+0200
TZOFFSETTO:+0200
TZNAME:SAST
DTSTART:20250101T000000
END:STANDARD
END:VTIMEZONE
BEGIN:VEVENT
DTSTART;TZID=Africa/Johannesburg:20260112T000000
DTEND;TZID=Africa/Johannesburg:20261231T235959
DTSTAMP:20260424T182045
CREATED:20250205T124523Z
LAST-MODIFIED:20260112T084946Z
UID:3931-1768176000-1798761599@eagleenv.co.za
SUMMARY:PLEASE NOTE – BE WARNED
DESCRIPTION:PLEASE NOTE – BE WARNED \nIt has come to our attention that there is a course run by Knowledge Academy whose venue has not been booked\, the presenter has not been confirmed\, and potential attendees have not been able to make contact with the organisers. \nIn the light of this\, we strongly suggest that before booking and paying for any conferences and seminars\, you verify the credibility of these courses\, by contacting the organisers\, the presenters\, and the course venues to confirm that the courses will actually be held. DO NOT make any payments until you have confirmed the legitimacy of the course. \nWe have stressed this previously as we have noted that there are many event organisers who are setting out to deliberately defraud potential delegates.
URL:https://eagleenv.co.za/event/please-note-be-warned/
LOCATION:Johannesburg
END:VEVENT
BEGIN:VEVENT
DTSTART;TZID=Africa/Johannesburg:20260505T000000
DTEND;TZID=Africa/Johannesburg:20260507T235959
DTSTAMP:20260424T182045
CREATED:20260327T103708Z
LAST-MODIFIED:20260327T103810Z
UID:4916-1777939200-1778198399@eagleenv.co.za
SUMMARY:Water Governance Training Course
DESCRIPTION:VENUE: Pontac Manor Hotel\, 16 Zion Street\, Paarl\, Western Cape \nCBSS will be presenting our popular three-day Training Course in Water Governance\, in association with the Water Institute of South Africa (WISA) info@cbss.co.za \nMore information:- https://cbss.co.za/course-description-water-governance/ \nWater Governance refers to the political\, social\, economic\, legislative and administrative systems in place that influence the use and management of water. \nCBSS will be presenting our popular three-day Training Course on Water Governance in South Africa from 12 – 14 May 2026\, in Durban\, KZN Province. \nThe Course addresses the international context of Water Governance\, and explores the South African legislative framework\, as well as institutional\, financial\, and regulatory arrangements for the governance of water.  It is presented in association with the Water Institute of South Africa (WISA). \nAn Assessment will be conducted of delegates’ level of learning during the course\, and a Certificate of Attendance will be awarded to successful learners upon conclusion of the course\, which can be used to claim THREE (3) CPD-points from WISA\, SACNASP and ECSA. \nSuccessful completion of this Course is a prerequisite to register for the Masterclass Course on Water Use License application (WULA) processes\, practice\, eWULAAS\, and the preparation of integrated water and waste management plans (IWWMPs).
URL:https://eagleenv.co.za/event/water-governance-training-course/
LOCATION:Paarl – Western Cape\, Pontac Manor Hotel\, Paarl\, Western Cape
END:VEVENT
BEGIN:VEVENT
DTSTART;TZID=Africa/Johannesburg:20260507T000000
DTEND;TZID=Africa/Johannesburg:20260508T235959
DTSTAMP:20260424T182045
CREATED:20260327T104159Z
LAST-MODIFIED:20260327T104159Z
UID:4920-1778112000-1778284799@eagleenv.co.za
SUMMARY:Conference - Innovations in Waste Management - The African Experience
DESCRIPTION:VENUE: Stirling High School\, East London. \nThis conference aims to provide a platform for the exchange of knowledge\, experiences\, and innovative solutions within the waste management sector. It will bring together industry professionals to discuss strategic advancements\, showcase best practices\, and promote sustainable initiatives that contribute to meaningful and long-term impact within our communities. \nFor further enquiries contact: Lizl Badenhorst Eastern Cape Branch Manager easterncape@iwmsa.co.za  \nTel: 011 675 3462
URL:https://eagleenv.co.za/event/conference-innovations-in-waste-management-the-african-experience/
LOCATION:East London
CATEGORIES:Waste Management
END:VEVENT
BEGIN:VEVENT
DTSTART;TZID=Africa/Johannesburg:20260511T000000
DTEND;TZID=Africa/Johannesburg:20260512T235959
DTSTAMP:20260424T182045
CREATED:20260423T123545Z
LAST-MODIFIED:20260423T123545Z
UID:4946-1778457600-1778630399@eagleenv.co.za
SUMMARY:GRI Course on Sustainability Reporting
DESCRIPTION:On-line. \nDiscount for attending both courses 11-12 May and 13th May – GRI Performance Indicators. \nCourse registrations are now open online at http://www.ess-sustainability.co.za/course-registration/ \nContact: Seakle at ESS – seakle@ess-sustainability.co.za Tel: 082 395 7582 or \nMaryna at maryna@ess-sustainability.co.za Tel: 082 882 7700. \nWebsite: www.ess-sustainability.co.za
URL:https://eagleenv.co.za/event/gri-course-on-sustainability-reporting/
LOCATION:Online
CATEGORIES:Sustainability
END:VEVENT
BEGIN:VEVENT
DTSTART;TZID=Africa/Johannesburg:20260511T000000
DTEND;TZID=Africa/Johannesburg:20260513T235959
DTSTAMP:20260424T182045
CREATED:20260423T131002Z
LAST-MODIFIED:20260423T131020Z
UID:4961-1778457600-1778716799@eagleenv.co.za
SUMMARY:Environmental Law In-Depth Training
DESCRIPTION:Via Teams. \nTIME:  08h30 – 15-30 \nFor more information Contact: Michelle du Toit at Inlexso \nCell: 083 232 2004 \nmichelle.dutoit@inlexso.co.za
URL:https://eagleenv.co.za/event/environmental-law-in-depth-training/
LOCATION:Online
CATEGORIES:Environmental Law
ORGANIZER;CN="Inlexso":MAILTO:michelle.dutoit@inlexso.co.za
END:VEVENT
BEGIN:VEVENT
DTSTART;TZID=Africa/Johannesburg:20260512T080000
DTEND;TZID=Africa/Johannesburg:20260514T170000
DTSTAMP:20260424T182045
CREATED:20260327T104346Z
LAST-MODIFIED:20260327T104346Z
UID:4923-1778572800-1778778000@eagleenv.co.za
SUMMARY:Water Governance
DESCRIPTION:VENUE: Madeline Grove Guest House\, Morningside\, Durban \nCBSS will be presenting our popular three-day Training Course in Water Governance\, in association with the Water Institute of South Africa (WISA) info@cbss.co.za \nMore information:- https://cbss.co.za/course-description-water-governance/ \nWater Governance refers to the political\, social\, economic\, legislative and administrative systems in place that influence the use and management of water.  CBSS will be presenting our popular three-day Training Course on Water Governance in South Africa from 12 – 14 May 2026\, in Durban\, KZN Province. \nThe Course addresses the international context of Water Governance\, and explores the South African legislative framework\, as well as institutional\, financial\, and regulatory arrangements for the governance of water.  It is presented in association with the Water Institute of South Africa (WISA). \nAn Assessment will be conducted of delegates’ level of learning during the course\, and a Certificate of Attendance will be awarded to successful learners upon conclusion of the course\, which can be used to claim THREE (3) CPD-points from WISA\, SACNASP and ECSA. \nSuccessful completion of this Course is a prerequisite to register for the Masterclass Course on Water Use License application (WULA) processes\, practice\, eWULAAS\, and the preparation of integrated water and waste management plans (IWWMPs).
URL:https://eagleenv.co.za/event/water-governance/
LOCATION:Durban\, KwaZulu-Natal\, South Africa
CATEGORIES:Water Governance
END:VEVENT
BEGIN:VEVENT
DTSTART;TZID=Africa/Johannesburg:20260513T000000
DTEND;TZID=Africa/Johannesburg:20260513T235959
DTSTAMP:20260424T182045
CREATED:20260423T123723Z
LAST-MODIFIED:20260423T123723Z
UID:4948-1778630400-1778716799@eagleenv.co.za
SUMMARY:GRI Performance Indicators
DESCRIPTION:Discount for attending both courses 11-12 May – GRI course on Sustainability Reporting and this one. \nCourse registrations are now open online at http://www.ess-sustainability.co.za/course-registration/ \nContact: Seakle at ESS – seakle@ess-sustainability.co.za Tel: 082 395 7582 or \nMaryna at maryna@ess-sustainability.co.za Tel: 082 882 7700. \nWebsite: www.ess-sustainability.co.za
URL:https://eagleenv.co.za/event/gri-performance-indicators/
LOCATION:Online
END:VEVENT
BEGIN:VEVENT
DTSTART;TZID=Africa/Johannesburg:20260518T000000
DTEND;TZID=Africa/Johannesburg:20260518T235959
DTSTAMP:20260424T182045
CREATED:20260423T124003Z
LAST-MODIFIED:20260423T124003Z
UID:4950-1779062400-1779148799@eagleenv.co.za
SUMMARY:Stakeholder Engagement for Effective Management and Reporting
DESCRIPTION:Course registrations are now open online at http://www.ess-sustainability.co.za/course-registration/ \nContact: Seakle at ESS – seakle@ess-sustainability.co.za tel: 082 395 7582 or \nMaryna at maryna@ess-sustainability.co.za Tel: 082 882 7700. \nWebsite: www.ess-sustainability.co.za
URL:https://eagleenv.co.za/event/stakeholder-engagement-for-effective-management-and-reporting/
LOCATION:Online
CATEGORIES:Management and Reporting,Stakeholder Engagement
END:VEVENT
BEGIN:VEVENT
DTSTART;TZID=Africa/Johannesburg:20260518T000000
DTEND;TZID=Africa/Johannesburg:20260518T235959
DTSTAMP:20260424T182045
CREATED:20260423T134014Z
LAST-MODIFIED:20260423T134014Z
UID:4963-1779062400-1779148799@eagleenv.co.za
SUMMARY:ISO 14001:2026 Transition Workshop
DESCRIPTION:The ISO 14001:2026 Transition Workshop is an information and awareness session intended to provide: \nAn overview of expected and published changes to ISO 14001 \nTypical transition considerations and indicative timelines \nGeneral insight into certification-related expectations \nContact: Risk Group: 031 569 5900 enquiries@riskgroup.ltd www.riskgroup.ltd \nContact: Wynleigh International Certification Services Tel: 031 941 4790 E-mail: info@wynleigh.com Website: www.wynleigh.com
URL:https://eagleenv.co.za/event/iso-140012026-transition-workshop/
CATEGORIES:ISO Courses
END:VEVENT
BEGIN:VEVENT
DTSTART;TZID=Africa/Johannesburg:20260519T000000
DTEND;TZID=Africa/Johannesburg:20260519T235959
DTSTAMP:20260424T182045
CREATED:20260423T124145Z
LAST-MODIFIED:20260423T124145Z
UID:4952-1779148800-1779235199@eagleenv.co.za
SUMMARY:Developing and Implementing a Sustainability/ESG Strategy in your Organisation
DESCRIPTION:Course registrations are now open online at http://www.ess-sustainability.co.za/course-registration/ \nContact: Seakle at ESS – seakle@ess-sustainability.co.za Tel: 082 395 7582 or \nMaryna at maryna@ess-sustainability.co.za Tel: 082 882 7700. \nWebsite: www.ess-sustainability.co.za
URL:https://eagleenv.co.za/event/developing-and-implementing-a-sustainability-esg-strategy-in-your-organisation/
LOCATION:Online
CATEGORIES:Sustainability
END:VEVENT
BEGIN:VEVENT
DTSTART;TZID=Africa/Johannesburg:20260519T090000
DTEND;TZID=Africa/Johannesburg:20260520T123000
DTSTAMP:20260424T182045
CREATED:20260423T124418Z
LAST-MODIFIED:20260423T124418Z
UID:4954-1779181200-1779280200@eagleenv.co.za
SUMMARY:Waste Legislation Training Course
DESCRIPTION:19- 20 May2026 Time: 09h00 – 12h30 on both days Live Online via Teams \nThe Institute of Waste Management of Southern Africa (IWMSA)’s KwaZulu-Natal Branch will be hosting a Virtual Waste Legislation Training Course that will be held over two mornings. The aim of the course is to introduce those attending to legal concepts\, institutional arrangements and waste management principles. \nThe programme provides comprehensive coverage of the National Environmental Management: Waste Act\, 2008 and subordinate legislation\, international conventions and other legislation applicable to the management of hazardous and non-hazardous waste. It is IWMSA recognised and is lectured by a facilitator with years of experience in the waste industry. \nContact:- Heather Sheard at kzn@iwmsa.co.za
URL:https://eagleenv.co.za/event/waste-legislation-training-course/
LOCATION:Online
CATEGORIES:Waste Legislation
ORGANIZER;CN="Institute of Waste Management - KwaZulu Natal":MAILTO:kzn@iwmsa.co.za
END:VEVENT
BEGIN:VEVENT
DTSTART;TZID=Africa/Johannesburg:20260528T000000
DTEND;TZID=Africa/Johannesburg:20260529T235959
DTSTAMP:20260424T182045
CREATED:20260423T124648Z
LAST-MODIFIED:20260423T124849Z
UID:4956-1779926400-1780099199@eagleenv.co.za
SUMMARY:South African Waste and Water Law (Legal Compliance Training)
DESCRIPTION:VENUE: Blue Waters Hotel\, Durban. \nContact: Magnum Govender Business Success Solutions Tel:  011 472 1035 Cell: 060 816 9490 Fax: 086 552 9872 \nE-mail: magnum@businesssuccess.co.za Website:  www.businesssuccess.co.za \nWhat You Will Gain \n\nPractical understanding of waste and water law\nConfidence in managing licensing processes\nAwareness of legislative changes and amendments\nTools to reduce compliance risks\nInsight into enforcement trends and case law\n\nFor more information click here:- South African Waste and Water Law (2 day Legal Compliance Training) – 28-29 May 2026 – Durban
URL:https://eagleenv.co.za/event/south-african-waste-and-water-law-legal-compliance-training/
LOCATION:Durban\, KwaZulu-Natal\, South Africa
CATEGORIES:Waste Legislation,Water
END:VEVENT
BEGIN:VEVENT
DTSTART;TZID=Africa/Johannesburg:20261020T000000
DTEND;TZID=Africa/Johannesburg:20261022T235959
DTSTAMP:20260424T182045
CREATED:20260206T092648Z
LAST-MODIFIED:20260206T092716Z
UID:4855-1792454400-1792713599@eagleenv.co.za
SUMMARY:Wastecon 2026
DESCRIPTION:VENUE: Emperor’s Palace\, 64 Jones Road\, kempton Park\, Johannesburg. \nThe 26th edition of WasteCon \nWasteCon is the premier platform for showcasing best practices and sustainable solutions in waste and resource management. Celebrating 50 Years of IWMSA\nNext year\, the Institute of Waste Management of Southern Africa (IWMSA) proudly marks its 50th anniversary—a milestone reflecting five decades of commitment\, innovation\, and leadership in sustainable waste management.\nAs we celebrate our golden legacy\, we look forward to a green future\, embracing innovative solutions\, technologies\, and practices that drive excellence across the waste and circular economy sectors. WasteCon 2026 brings together industry leaders\, innovators\, and stakeholders to reflect on our journey\, share knowledge\, and collaborate on shaping a sustainable tomorrow.\n\n\n\n\nContact: Nicolle de Bruyn at iwmsa@iwmsa.co.za \nEarly Bird Delegate Registration & Payment Cut Off Date is 30 April 2026
URL:https://eagleenv.co.za/event/wastecon-2026/
LOCATION:Johannesburg
CATEGORIES:Waste Management
END:VEVENT
END:VCALENDAR